BEGIN:VCALENDAR
VERSION:2.0
PRODID:-//wp-events-plugin.com//7.2.3.1//EN
TZID:Europe/Berlin
X-WR-TIMEZONE:Europe/Berlin
BEGIN:VEVENT
UID:6204@rsg-boeblingen.de
DTSTART;TZID=Europe/Berlin;VALUE=DATE:20211119
DTEND;TZID=Europe/Berlin;VALUE=DATE:20211122
DTSTAMP:20210915T181124Z
URL:https://www.rsg-boeblingen.de/events/belegt-4/
SUMMARY:Belegt
DESCRIPTION:
CATEGORIES:Vereinsheim-Buchung
LOCATION:RSG Vereinsheim\, Zimmerschlag 11\, Böblingen\, 71034\, Deutschla
 nd
GEO:48.669845;9.032328
X-APPLE-STRUCTURED-LOCATION;VALUE=URI;X-ADDRESS=Zimmerschlag 11\, Böblinge
 n\, 71034\, Deutschland;X-APPLE-RADIUS=100;X-TITLE=RSG Vereinsheim:geo:48.
 669845,9.032328
END:VEVENT
BEGIN:VTIMEZONE
TZID:Europe/Berlin
X-LIC-LOCATION:Europe/Berlin
BEGIN:STANDARD
DTSTART:20211031T020000
TZOFFSETFROM:+0200
TZOFFSETTO:+0100
TZNAME:CET
END:STANDARD
END:VTIMEZONE
END:VCALENDAR