BEGIN:VCALENDAR
VERSION:2.0
PRODID:-//wp-events-plugin.com//7.2.3.1//EN
TZID:Europe/Berlin
X-WR-TIMEZONE:Europe/Berlin
BEGIN:VEVENT
UID:6199@rsg-boeblingen.de
DTSTART;TZID=Europe/Berlin;VALUE=DATE:20210924
DTEND;TZID=Europe/Berlin;VALUE=DATE:20210927
DTSTAMP:20210914T140641Z
URL:https://www.rsg-boeblingen.de/events/belegt/
SUMMARY:Belegt
DESCRIPTION:
CATEGORIES:Vereinsheim-Buchung
LOCATION:RSG Vereinsheim\, Zimmerschlag 11\, Böblingen\, 71034\, Deutschla
 nd
GEO:48.669845;9.032328
X-APPLE-STRUCTURED-LOCATION;VALUE=URI;X-ADDRESS=Zimmerschlag 11\, Böblinge
 n\, 71034\, Deutschland;X-APPLE-RADIUS=100;X-TITLE=RSG Vereinsheim:geo:48.
 669845,9.032328
END:VEVENT
BEGIN:VTIMEZONE
TZID:Europe/Berlin
X-LIC-LOCATION:Europe/Berlin
BEGIN:DAYLIGHT
DTSTART:20210328T030000
TZOFFSETFROM:+0100
TZOFFSETTO:+0200
TZNAME:CEST
END:DAYLIGHT
END:VTIMEZONE
END:VCALENDAR