BEGIN:VCALENDAR
VERSION:2.0
PRODID:-//wp-events-plugin.com//7.2.3.1//EN
TZID:Europe/Berlin
X-WR-TIMEZONE:Europe/Berlin
BEGIN:VEVENT
UID:6197@rsg-boeblingen.de
DTSTART;TZID=Europe/Berlin:20211008T190000
DTEND;TZID=Europe/Berlin:20211008T230000
DTSTAMP:20210911T151332Z
URL:https://www.rsg-boeblingen.de/events/jahreshauptversammlung-2021/
SUMMARY:Jahreshauptversammlung 2021
DESCRIPTION:Unsere Jahreshauptversammlung findet dieses Jahr am Freitag den
  8. Oktober um 19:00 im Vereinsheim statt.\n\nEine Agenda etc. folgt noch\
 n\nViele Grüße\, euer Thomas
CATEGORIES:Veranstalter: RSG,Vereins-intern,Vereinsheim-Buchung
LOCATION:RSG Vereinsheim\, Zimmerschlag 11\, Böblingen\, 71034\, Deutschla
 nd
GEO:48.669845;9.032328
X-APPLE-STRUCTURED-LOCATION;VALUE=URI;X-ADDRESS=Zimmerschlag 11\, Böblinge
 n\, 71034\, Deutschland;X-APPLE-RADIUS=100;X-TITLE=RSG Vereinsheim:geo:48.
 669845,9.032328
END:VEVENT
BEGIN:VTIMEZONE
TZID:Europe/Berlin
X-LIC-LOCATION:Europe/Berlin
BEGIN:DAYLIGHT
DTSTART:20210328T030000
TZOFFSETFROM:+0100
TZOFFSETTO:+0200
TZNAME:CEST
END:DAYLIGHT
END:VTIMEZONE
END:VCALENDAR