BEGIN:VCALENDAR
VERSION:2.0
PRODID:-//wp-events-plugin.com//7.2.3.1//EN
TZID:Europe/Berlin
X-WR-TIMEZONE:Europe/Berlin
BEGIN:VEVENT
UID:1150@rsg-boeblingen.de
DTSTART;TZID=Europe/Berlin:20130702T180000
DTEND;TZID=Europe/Berlin:20130702T200000
DTSTAMP:20180211T131444Z
URL:https://www.rsg-boeblingen.de/events/training-mit-lisa-0702/
SUMMARY:Training mit Elisabeth Brandau
DESCRIPTION:Training auf dem Rennrad mit Elisabeth Brandau
CATEGORIES:Rad-Treff,Sport und Training,Veranstalter: andere
LOCATION:Aidlingen-Abzweig-Sportplatz\, Gärtringerstr. 2\, Aidlingen\, 711
 34\, Deutschland
GEO:48.6783069;8.89452319999998
X-APPLE-STRUCTURED-LOCATION;VALUE=URI;X-ADDRESS=Gärtringerstr. 2\, Aidling
 en\, 71134\, Deutschland;X-APPLE-RADIUS=100;X-TITLE=Aidlingen-Abzweig-Spor
 tplatz:geo:48.6783069,8.89452319999998
END:VEVENT
BEGIN:VTIMEZONE
TZID:Europe/Berlin
X-LIC-LOCATION:Europe/Berlin
BEGIN:DAYLIGHT
DTSTART:20130331T030000
TZOFFSETFROM:+0100
TZOFFSETTO:+0200
TZNAME:CEST
END:DAYLIGHT
END:VTIMEZONE
END:VCALENDAR