BEGIN:VCALENDAR
VERSION:2.0
PRODID:-//wp-events-plugin.com//7.2.3.1//EN
TZID:Europe/Berlin
X-WR-TIMEZONE:Europe/Berlin
BEGIN:VEVENT
UID:1151@rsg-boeblingen.de
DTSTART;TZID=Europe/Berlin:20130704T180000
DTEND;TZID=Europe/Berlin:20130704T200000
DTSTAMP:20180211T131444Z
URL:https://www.rsg-boeblingen.de/events/training-mit-lisa-0704/
SUMMARY:Training mit Elisabeth Brandau
DESCRIPTION:Heute mal ein besonderes Angebot: Training mit einem Profi\, au
 s unserer Gegend\, vor unserer Haustür. Einladung von Lisa:\n\nHallo Beis
 ammen\,\n\nIch hätte Lust 2 Trainingsrennen nächste Woche einzuplanen. M
 al ein bisschen Abwechslung - Wer hat Lust? Für Jedermann der ein Rennrad
  besitzt.\n\nTreffpunkt DI: 2.7.2013 18.00 Aidlingen unten im Anstieg Rich
 tung Sportplatz Aidlingen hoch. (Abzweigung im Ort)\nRunde: ca\, 9km lang\
 , Aidlingen nach Gärtringen durch asphaltiertem Wald und Radweg nach Aidl
 ingen zurück.\nRundenanzahl: ca. 7 mal (kann vor Ort auch verändert werd
 en)\n\nTreffpunkt DO: 4.7.2013 18.00 Ehningen Radweg Richtung Gärtringen 
 unter der Eisenbahnbrücke\nRunde: ca. 3\,1 km Nur Radweg – Richtung Pfe
 rdehof hoch – links Richtung der Deutschland Flagge und wieder zurück 
 über die Höhe nach Ehningen.\nRundenanzahl: 15 mal (wie kann vor Ort ge
 ändert werden)\n\nAuch bei schlechtem Wetter!\n\nDanke\, mit sportlichen 
 Grüßen\nElisabeth BrandauGeschäftsführerin/Teammanagerin\n\nwww.elisab
 eth-brandau.de\nwww.eb-energie.de\nwww.ebe-racing-team.de
CATEGORIES:Rad-Treff,Sport und Training,Veranstalter: andere
LOCATION:Ehningen\, Radweg-Gärtringen\, Eisenbahnbrücke\, Gärtringerweg 
 37\, Ehningen\, 71139\, Deutschland
GEO:48.6557239;8.929749000000015
X-APPLE-STRUCTURED-LOCATION;VALUE=URI;X-ADDRESS=Gärtringerweg 37\, Ehninge
 n\, 71139\, Deutschland;X-APPLE-RADIUS=100;X-TITLE=Ehningen\, Radweg-Gärt
 ringen\, Eisenbahnbrücke:geo:48.6557239,8.929749000000015
END:VEVENT
BEGIN:VTIMEZONE
TZID:Europe/Berlin
X-LIC-LOCATION:Europe/Berlin
BEGIN:DAYLIGHT
DTSTART:20130331T030000
TZOFFSETFROM:+0100
TZOFFSETTO:+0200
TZNAME:CEST
END:DAYLIGHT
END:VTIMEZONE
END:VCALENDAR